BEGIN:VCALENDAR
VERSION:2.0
PRODID:-//Franklin Park Republican Committee - ECPv6.15.13.1//NONSGML v1.0//EN
CALSCALE:GREGORIAN
METHOD:PUBLISH
X-WR-CALNAME:Franklin Park Republican Committee
X-ORIGINAL-URL:https://franklinparkrepublicans.com
X-WR-CALDESC:Events for Franklin Park Republican Committee
REFRESH-INTERVAL;VALUE=DURATION:PT1H
X-Robots-Tag:noindex
X-PUBLISHED-TTL:PT1H
BEGIN:VTIMEZONE
TZID:America/New_York
BEGIN:DAYLIGHT
TZOFFSETFROM:-0500
TZOFFSETTO:-0400
TZNAME:EDT
DTSTART:20240310T070000
END:DAYLIGHT
BEGIN:STANDARD
TZOFFSETFROM:-0400
TZOFFSETTO:-0500
TZNAME:EST
DTSTART:20241103T060000
END:STANDARD
BEGIN:DAYLIGHT
TZOFFSETFROM:-0500
TZOFFSETTO:-0400
TZNAME:EDT
DTSTART:20250309T070000
END:DAYLIGHT
BEGIN:STANDARD
TZOFFSETFROM:-0400
TZOFFSETTO:-0500
TZNAME:EST
DTSTART:20251102T060000
END:STANDARD
BEGIN:DAYLIGHT
TZOFFSETFROM:-0500
TZOFFSETTO:-0400
TZNAME:EDT
DTSTART:20260308T070000
END:DAYLIGHT
BEGIN:STANDARD
TZOFFSETFROM:-0400
TZOFFSETTO:-0500
TZNAME:EST
DTSTART:20261101T060000
END:STANDARD
END:VTIMEZONE
BEGIN:VEVENT
DTSTART;TZID=America/New_York:20250510T090000
DTEND;TZID=America/New_York:20250519T170000
DTSTAMP:20260421T100512
CREATED:20250505T134250Z
LAST-MODIFIED:20250506T123206Z
UID:10000635-1746867600-1747674000@franklinparkrepublicans.com
SUMMARY:Primary Election Early Voting
DESCRIPTION:Allegheny County will host ballot return sites for the upcoming Primary Election. Ballot return sites are staffed locations where registered voters who received a mail-in or absentee ballot can return ballots in person\, directly to a county employee. \nAllegheny County will also offer satellite locations.  At satellite locations\, registered voters can request a mail-in ballot\, complete\, and return it\, all in one place (commonly referred to “over-the-counter” voting). Once the deadline to apply for a mail-in or absentee ballot has passed\, voters may only return ballots\, they can no longer request one on-site. \nThe County Office Building will be open Monday through Friday from 8:30 am to 4:30 pm for over-the-counter voting and ballot return services beginning Monday\, April 28\, 2025. \nVoters may only return their own ballot unless they have completed authorization forms to return a ballot on behalf of someone who physically is unable to do so. For individuals requiring assistance in voting or returning a ballot\, contact the Elections Division at 412-350-4500. \n. \n\n\n\nSatellite Voting and Ballot Return\n\n\nDates\nLocations\n\n\n\n\nWeekends:\n05/10/25\n05/11/259:00 am – 5:00 pm\n\n\nNorth Park Ice Rink\nCounty Office Building\nLobby (Ross Street entrance)\n\n\n\n\n\n\n\n\nBallot Return Only\n\n\nDates\nLocations\n\n\n\n\nWeekdays:\n05/16/25\n05/19/2511:00 am – 7:00 pm \n\nWeekend:\n05/17/25\n05/18/25 \n9:00 am – 5:00 pm\n\n\n\n\nCounty Office Building\nLobby (Ross Street entrance)\nNorth Park Ice Rink\n\n\n\n\n\n\n\n Primary\nElection Day:\nTuesday 05/20/25 \n7:00 am – 8:00 pm\n\n\nCounty Office Building\nLobby (Ross Street entrance)
URL:https://franklinparkrepublicans.com/event/primary-election-early-voting/
LOCATION:PA
ATTACH;FMTTYPE=image/jpeg:https://franklinparkrepublicans.com/wp-content/uploads/2024/04/AC-Vote-Sign-scaled.jpg
END:VEVENT
END:VCALENDAR